BEGIN:VCALENDAR
VERSION:2.0
PRODID:-//wp-events-plugin.com//7.2.2.1//EN
BEGIN:VEVENT
UID:74@oicdemourl2.una-oic.org
DTSTART;VALUE=DATE:20241231
DTEND;VALUE=DATE:20250101
DTSTAMP:20241204T054610Z
URL:https://oicdemourl2.una-oic.org/events/%d9%85%d9%86%d8%a7%d8%b3%d8%a8%
 d8%a9-%d8%aa%d8%ac%d8%b1%d9%8a%d8%a8%d9%8a%d8%a9/
SUMMARY:مناسبة تجريبية
DESCRIPTION:هذه المناسبة تجريبية
ATTACH;FMTTYPE=image/jpeg:https://oicdemourl2.una-oic.org/wp-content/uploa
 ds/2024/11/شعار-منظمة-التعاون-الإسلامي-1.jpeg
CATEGORIES:مؤتمرات
LOCATION:مقر إتحاد يونا\, مقر إتحاد يونا\, جدة\,
  جدة\, المملكة العربية السعودية
X-APPLE-STRUCTURED-LOCATION;VALUE=URI;X-ADDRESS=مقر إتحاد يونا\
 , جدة\, جدة\, المملكة العربية السعودية;X-APPLE
 -RADIUS=100;X-TITLE=مقر إتحاد يونا:geo:0,0
END:VEVENT
END:VCALENDAR